BEGIN:VCALENDAR
X-LOTUS-CHARSET:UTF-8
VERSION:2.0
PRODID:Sportschule-Wales
METHOD:REQUEST
BEGIN:VEVENT
UID:Sportschule-Wales-365
DTSTAMP:20260421T103038
CLASS:PUBLIC
DTSTART;TZID=Europe/Berlin:20250928T100000
DTEND;TZID=Europe/Berlin:20250928T100000
LOCATION:Turnhalle der Grundschule in Pilsach
SUMMARY:Studygroup - Messer Level 1
DESCRIPTION:
BEGIN:VALARM
ACTION:DISPLAY
TRIGGER:-PT1440M
DESCRIPTION:Erinnerung
END:VALARM
END:VEVENT
END:VCALENDAR